BEGIN:VCALENDAR
VERSION:2.0
PRODID:-//Swope PFA - ECPv6.15.20//NONSGML v1.0//EN
CALSCALE:GREGORIAN
METHOD:PUBLISH
X-WR-CALNAME:Swope PFA
X-ORIGINAL-URL:https://swopepfa.org
X-WR-CALDESC:Events for Swope PFA
REFRESH-INTERVAL;VALUE=DURATION:PT1H
X-Robots-Tag:noindex
X-PUBLISHED-TTL:PT1H
BEGIN:VTIMEZONE
TZID:America/Los_Angeles
BEGIN:DAYLIGHT
TZOFFSETFROM:-0800
TZOFFSETTO:-0700
TZNAME:PDT
DTSTART:20240310T100000
END:DAYLIGHT
BEGIN:STANDARD
TZOFFSETFROM:-0700
TZOFFSETTO:-0800
TZNAME:PST
DTSTART:20241103T090000
END:STANDARD
BEGIN:DAYLIGHT
TZOFFSETFROM:-0800
TZOFFSETTO:-0700
TZNAME:PDT
DTSTART:20250309T100000
END:DAYLIGHT
BEGIN:STANDARD
TZOFFSETFROM:-0700
TZOFFSETTO:-0800
TZNAME:PST
DTSTART:20251102T090000
END:STANDARD
BEGIN:DAYLIGHT
TZOFFSETFROM:-0800
TZOFFSETTO:-0700
TZNAME:PDT
DTSTART:20260308T100000
END:DAYLIGHT
BEGIN:STANDARD
TZOFFSETFROM:-0700
TZOFFSETTO:-0800
TZNAME:PST
DTSTART:20261101T090000
END:STANDARD
END:VTIMEZONE
BEGIN:VEVENT
DTSTART;TZID=America/Los_Angeles:20250213T180000
DTEND;TZID=America/Los_Angeles:20250213T190000
DTSTAMP:20260420T015046
CREATED:20240831T170351Z
LAST-MODIFIED:20240831T170351Z
UID:713-1739469600-1739473200@swopepfa.org
SUMMARY:Swope PFA General Meeting
DESCRIPTION:Please join the Swope PFA board of directors and fellow Swope families for an update on the activities of the PFA. \nWe encourage you to attend these meetings as it is a wonderful opportunity to connect with other parents\, hear from school faculty\, and get involved with the PFA. \nWe will meet either in the office conference room or the library.
URL:https://swopepfa.org/index.php/event/swope-pfa-general-meeting-4/
END:VEVENT
END:VCALENDAR